BEGIN:VCALENDAR
VERSION:2.0
PRODID:-//Kayaking Greece - ECPv6.15.20//NONSGML v1.0//EN
CALSCALE:GREGORIAN
METHOD:PUBLISH
X-ORIGINAL-URL:https://kayakinggreece.com
X-WR-CALDESC:Events for Kayaking Greece
REFRESH-INTERVAL;VALUE=DURATION:PT1H
X-Robots-Tag:noindex
X-PUBLISHED-TTL:PT1H
BEGIN:VTIMEZONE
TZID:UTC
BEGIN:STANDARD
TZOFFSETFROM:+0000
TZOFFSETTO:+0000
TZNAME:UTC
DTSTART:20150101T000000
END:STANDARD
END:VTIMEZONE
BEGIN:VEVENT
DTSTART;VALUE=DATE:20160604
DTEND;VALUE=DATE:20160610
DTSTAMP:20260420T170727
CREATED:20160130T180149Z
LAST-MODIFIED:20160130T185714Z
UID:4586-1464998400-1465516799@kayakinggreece.com
SUMMARY:British Canoeing 3 star sea June
DESCRIPTION:British Canoeing 3 star sea kayak training and assessment.\n\nBritish Canoeing 3 star award shows you have the skills to look after yourself on the sea. \nJoin us for the full course or just selected days. \nThis course is designed to be part of your holiday\, each day we will visit different areas of the island.
URL:https://kayakinggreece.com/event/british-canoeing-3-star-sea-kayak/
LOCATION:Kayaking Skopelos\, Glossa\, Skopelos\, Thessaly\, 37004\, Greece
CATEGORIES:BC 3 star courses
ORGANIZER;CN="Kayaking Skopelos":MAILTO:neil@kayakinggreece.com
END:VEVENT
END:VCALENDAR